BEGIN:VCALENDAR
VERSION:2.0
PRODID:-//ChamberMaster//Event Calendar 2.0//EN
METHOD:PUBLISH
X-PUBLISHED-TTL:P3D
REFRESH-INTERVAL:P3D
CALSCALE:GREGORIAN
BEGIN:VEVENT
DTSTART:20240725T140000Z
DTEND:20240725T160000Z
X-MICROSOFT-CDO-ALLDAYEVENT:FALSE
SUMMARY:BNI Big Breakfast
DESCRIPTION:Chapters in the north part of our Region will be gathering for a fun breakfast event on the morning of Thursday June 20th to show their love for BNI and the ways it has helped them grow their businesses. If you are a Member who will be attending\, this is where you register. If you are a guest coming to discover the potential to grow your business through referral marketing in BNI\, this is also where YOU register! You will hear from members who have gained professional development and revenue through BNI membership as well as how BNI can work for you. Come for the breakfast\; stay for the business! If one of your goals for 2024-2025 is to grow your business\, register for this event today.
X-ALT-DESC;FMTTYPE=text/html:Chapters in the north part of our Region will be gathering for a fun breakfast event on the morning of Thursday June 20th to show their love for BNI and the ways it has helped them grow their businesses. If you are a Member who will be attending\, this is where you register. If you are a guest coming to discover the potential to grow your business through referral marketing in BNI\, this is also where YOU register! You will hear from members who have gained professional development and revenue through BNI membership as well as how BNI can work for you. Come for the breakfast\; stay for the business! If one of your goals for 2024-2025 is to grow your business\, register for this event today.
LOCATION:Indigo Hotel 1028 13th Street Everett\, WA 98201
UID:e.72.23717
SEQUENCE:3
DTSTAMP:20260423T121955Z
URL:https://business.skagitvalleychamber.com/events/details/bni-big-breakfast-23717
END:VEVENT

END:VCALENDAR
