BEGIN:VCALENDAR
VERSION:2.0
PRODID:-//ChamberMaster//Event Calendar 2.0//EN
METHOD:PUBLISH
X-PUBLISHED-TTL:P3D
REFRESH-INTERVAL:P3D
CALSCALE:GREGORIAN
BEGIN:VEVENT
DTSTART:20260517T170000Z
DTEND:20260517T210000Z
X-MICROSOFT-CDO-ALLDAYEVENT:FALSE
SUMMARY:Meadows Montessori Spring Festival
DESCRIPTION:Please join us for the Meadows Montessori Spring Festival! We'll have an artisan market\, bake sale\, live music\, face painting\, barn animals\, kids activities and MORE! Bring the home family! We hope to see you there!
X-ALT-DESC;FMTTYPE=text/html:Please join us for the Meadows Montessori Spring Festival! We&#39\;ll have an artisan market\, bake sale\, live music\, face painting\, barn animals\, kids activities and MORE! Bring the home family! We hope to see you there!
LOCATION:Meadows Montessori School 2377 Douglas Road\, Ferndale WA 98248
UID:e.72.24580
SEQUENCE:3
DTSTAMP:20260422T143107Z
URL:https://business.skagitvalleychamber.com/events/details/meadows-montessori-spring-festival-24580
END:VEVENT

END:VCALENDAR
